Package: CRISPRseek Version: 1.46.0 Command: rm -rf CRISPRseek.buildbin-libdir && mkdir CRISPRseek.buildbin-libdir && F:\biocbuild\bbs-3.20-bioc\R\bin\R.exe CMD INSTALL --build --library=CRISPRseek.buildbin-libdir CRISPRseek_1.46.0.tar.gz StartedAt: 2025-02-04 08:17:21 -0500 (Tue, 04 Feb 2025) EndedAt: 2025-02-04 08:18:36 -0500 (Tue, 04 Feb 2025) EllapsedTime: 74.2 seconds RetCode: 0 Status: OK PackageFile: CRISPRseek_1.46.0.zip PackageFileSize: 11.03 MiB