Package: CRISPRseek Version: 1.46.0 Command: /home/biocbuild/R/R/bin/R CMD INSTALL CRISPRseek StartedAt: 2025-01-30 20:28:30 -0000 (Thu, 30 Jan 2025) EndedAt: 2025-01-30 20:29:17 -0000 (Thu, 30 Jan 2025) EllapsedTime: 47.1 seconds RetCode: 0 Status: OK