Package: CSAR Version: 1.58.0 Command: /Library/Frameworks/R.framework/Resources/bin/R CMD build --keep-empty-dirs --no-resave-data CSAR StartedAt: 2025-02-03 21:39:30 -0500 (Mon, 03 Feb 2025) EndedAt: 2025-02-03 21:40:09 -0500 (Mon, 03 Feb 2025) EllapsedTime: 39.0 seconds RetCode: 0 Status: OK PackageFile: CSAR_1.58.0.tar.gz PackageFileSize: 233.5 KiB