Package: CSAR Version: 1.58.0 Command: /Library/Frameworks/R.framework/Resources/bin/R CMD build --keep-empty-dirs --no-resave-data CSAR StartedAt: 2024-11-08 16:41:24 -0500 (Fri, 08 Nov 2024) EndedAt: 2024-11-08 16:41:36 -0500 (Fri, 08 Nov 2024) EllapsedTime: 12.1 seconds RetCode: 0 Status: OK PackageFile: CSAR_1.58.0.tar.gz PackageFileSize: 233.4 KiB