Package: CSAR Version: 1.58.0 Command: rm -rf CSAR.buildbin-libdir && mkdir CSAR.buildbin-libdir && /Users/biocbuild/BBS/utils/build-universal.sh CSAR_1.58.0.tar.gz /Library/Frameworks/R.framework/Resources/bin/R CSAR.buildbin-libdir StartedAt: 2025-01-31 12:36:44 -0500 (Fri, 31 Jan 2025) EndedAt: 2025-01-31 12:37:09 -0500 (Fri, 31 Jan 2025) EllapsedTime: 24.9 seconds RetCode: 0 Status: OK PackageFile: CSAR_1.58.0.tgz PackageFileSize: 302.6 KiB