Package: CSAR Version: 1.58.0 Command: /Library/Frameworks/R.framework/Resources/bin/R CMD check --install=check:CSAR.install-out.txt --library=/Library/Frameworks/R.framework/Resources/library --no-vignettes --timings CSAR_1.58.0.tar.gz StartedAt: 2025-01-31 02:18:03 -0500 (Fri, 31 Jan 2025) EndedAt: 2025-01-31 02:22:16 -0500 (Fri, 31 Jan 2025) EllapsedTime: 253.2 seconds RetCode: 0 Status: OK CheckDir: CSAR.Rcheck Warnings: 0