Package: CSAR Version: 1.58.0 Command: /home/biocbuild/bbs-3.20-bioc/R/bin/R CMD check --install=check:CSAR.install-out.txt --library=/home/biocbuild/bbs-3.20-bioc/R/site-library --timings CSAR_1.58.0.tar.gz StartedAt: 2025-02-03 21:24:10 -0500 (Mon, 03 Feb 2025) EndedAt: 2025-02-03 21:26:52 -0500 (Mon, 03 Feb 2025) EllapsedTime: 162.1 seconds RetCode: 0 Status: OK CheckDir: CSAR.Rcheck Warnings: 0