Package: CSAR Version: 1.58.0 Command: /home/biocbuild/R/R/bin/R CMD build --keep-empty-dirs --no-resave-data CSAR StartedAt: 2025-01-30 22:55:06 -0000 (Thu, 30 Jan 2025) EndedAt: 2025-01-30 22:55:36 -0000 (Thu, 30 Jan 2025) EllapsedTime: 30.0 seconds RetCode: 0 Status: OK PackageFile: CSAR_1.58.0.tar.gz PackageFileSize: 226.1 KiB