Package: CSSQ Version: 1.18.0 Command: /Library/Frameworks/R.framework/Resources/bin/R CMD check --install=check:CSSQ.install-out.txt --library=/Library/Frameworks/R.framework/Resources/library --no-vignettes --timings CSSQ_1.18.0.tar.gz StartedAt: 2025-02-11 16:19:55 -0500 (Tue, 11 Feb 2025) EndedAt: 2025-02-11 16:24:28 -0500 (Tue, 11 Feb 2025) EllapsedTime: 272.8 seconds RetCode: 0 Status: OK CheckDir: CSSQ.Rcheck Warnings: 0