Package: CSSQ Version: 1.18.0 Command: /Library/Frameworks/R.framework/Resources/bin/R CMD INSTALL CSSQ StartedAt: 2025-02-03 15:52:01 -0500 (Mon, 03 Feb 2025) EndedAt: 2025-02-03 15:52:44 -0500 (Mon, 03 Feb 2025) EllapsedTime: 42.4 seconds RetCode: 0 Status: OK