Package: CSSQ Version: 1.18.0 Command: /home/biocbuild/bbs-3.20-bioc/R/bin/R CMD check --install=check:CSSQ.install-out.txt --library=/home/biocbuild/bbs-3.20-bioc/R/site-library --timings CSSQ_1.18.0.tar.gz StartedAt: 2025-02-03 21:25:22 -0500 (Mon, 03 Feb 2025) EndedAt: 2025-02-03 21:30:16 -0500 (Mon, 03 Feb 2025) EllapsedTime: 294.2 seconds RetCode: 0 Status: OK CheckDir: CSSQ.Rcheck Warnings: 0