Package: CSSQ Version: 1.18.0 Command: /home/biocbuild/R/R/bin/R CMD build --keep-empty-dirs --no-resave-data CSSQ StartedAt: 2025-02-03 22:55:11 -0000 (Mon, 03 Feb 2025) EndedAt: 2025-02-03 22:56:18 -0000 (Mon, 03 Feb 2025) EllapsedTime: 67.0 seconds RetCode: 0 Status: OK PackageFile: CSSQ_1.18.0.tar.gz PackageFileSize: 866 KiB