Package: CSSQ Version: 1.18.0 Command: /home/biocbuild/R/R/bin/R CMD INSTALL CSSQ StartedAt: 2025-02-03 20:40:49 -0000 (Mon, 03 Feb 2025) EndedAt: 2025-02-03 20:41:33 -0000 (Mon, 03 Feb 2025) EllapsedTime: 43.4 seconds RetCode: 0 Status: OK