Package: CTDquerier Version: 2.14.0 Command: /Library/Frameworks/R.framework/Resources/bin/R CMD check --install=check:CTDquerier.install-out.txt --library=/Library/Frameworks/R.framework/Resources/library --no-vignettes --timings CTDquerier_2.14.0.tar.gz StartedAt: 2025-02-11 16:22:36 -0500 (Tue, 11 Feb 2025) EndedAt: 2025-02-11 16:24:47 -0500 (Tue, 11 Feb 2025) EllapsedTime: 130.4 seconds RetCode: 0 Status: WARNINGS CheckDir: CTDquerier.Rcheck Warnings: 1