Package: CTDquerier Version: 2.14.0 Command: /home/biocbuild/bbs-3.20-bioc/R/bin/R CMD check --install=check:CTDquerier.install-out.txt --library=/home/biocbuild/bbs-3.20-bioc/R/site-library --timings CTDquerier_2.14.0.tar.gz StartedAt: 2025-02-03 21:25:39 -0500 (Mon, 03 Feb 2025) EndedAt: 2025-02-03 21:27:16 -0500 (Mon, 03 Feb 2025) EllapsedTime: 97.1 seconds RetCode: 0 Status: WARNINGS CheckDir: CTDquerier.Rcheck Warnings: 1