Package: CTDquerier Version: 2.14.0 Command: rm -rf CTDquerier.buildbin-libdir && mkdir CTDquerier.buildbin-libdir && F:\biocbuild\bbs-3.20-bioc\R\bin\R.exe CMD INSTALL --build --library=CTDquerier.buildbin-libdir CTDquerier_2.14.0.tar.gz StartedAt: 2025-02-04 08:18:06 -0500 (Tue, 04 Feb 2025) EndedAt: 2025-02-04 08:18:26 -0500 (Tue, 04 Feb 2025) EllapsedTime: 20.0 seconds RetCode: 0 Status: OK PackageFile: CTDquerier_2.14.0.zip PackageFileSize: 2.716 MiB