Package: CTDquerier Version: 2.14.0 Command: chmod a+r CTDquerier -R && F:\biocbuild\bbs-3.20-bioc\R\bin\R.exe CMD build --keep-empty-dirs --no-resave-data CTDquerier StartedAt: 2025-02-10 18:20:11 -0500 (Mon, 10 Feb 2025) EndedAt: 2025-02-10 18:20:18 -0500 (Mon, 10 Feb 2025) EllapsedTime: 7.2 seconds RetCode: 0 Status: OK PackageFile: CTDquerier_2.14.0.tar.gz PackageFileSize: 2.803 MiB