Package: CTDquerier Version: 2.14.0 Command: /home/biocbuild/R/R/bin/R CMD check --install=check:CTDquerier.install-out.txt --library=/home/biocbuild/R/R/site-library --no-vignettes --timings CTDquerier_2.14.0.tar.gz StartedAt: 2025-02-11 05:15:55 -0000 (Tue, 11 Feb 2025) EndedAt: 2025-02-11 05:18:02 -0000 (Tue, 11 Feb 2025) EllapsedTime: 127.1 seconds RetCode: 0 Status: WARNINGS CheckDir: CTDquerier.Rcheck Warnings: 1