Package: CTDquerier Version: 2.14.0 Command: /home/biocbuild/R/R/bin/R CMD INSTALL CTDquerier StartedAt: 2025-02-10 20:22:35 -0000 (Mon, 10 Feb 2025) EndedAt: 2025-02-10 20:22:46 -0000 (Mon, 10 Feb 2025) EllapsedTime: 10.5 seconds RetCode: 0 Status: OK