Package: CTSV Version: 1.8.0 Command: rm -rf CTSV.buildbin-libdir && mkdir CTSV.buildbin-libdir && /Users/biocbuild/BBS/utils/build-universal.sh CTSV_1.8.0.tar.gz /Library/Frameworks/R.framework/Resources/bin/R CTSV.buildbin-libdir StartedAt: 2025-02-04 12:45:35 -0500 (Tue, 04 Feb 2025) EndedAt: 2025-02-04 12:46:32 -0500 (Tue, 04 Feb 2025) EllapsedTime: 57.3 seconds RetCode: 0 Status: OK PackageFile: CTSV_1.8.0.tgz PackageFileSize: 320.7 KiB