Package: CTSV Version: 1.8.0 Command: /Library/Frameworks/R.framework/Resources/bin/R CMD build --keep-empty-dirs --no-resave-data CTSV StartedAt: 2025-02-03 18:13:20 -0500 (Mon, 03 Feb 2025) EndedAt: 2025-02-03 18:15:03 -0500 (Mon, 03 Feb 2025) EllapsedTime: 103.9 seconds RetCode: 0 Status: OK PackageFile: CTSV_1.8.0.tar.gz PackageFileSize: 303.3 KiB