Package: CTSV Version: 1.8.0 Command: /Library/Frameworks/R.framework/Resources/bin/R CMD check --install=check:CTSV.install-out.txt --library=/Library/Frameworks/R.framework/Resources/library --no-vignettes --timings CTSV_1.8.0.tar.gz StartedAt: 2025-02-04 02:03:35 -0500 (Tue, 04 Feb 2025) EndedAt: 2025-02-04 02:12:09 -0500 (Tue, 04 Feb 2025) EllapsedTime: 513.8 seconds RetCode: 0 Status: OK CheckDir: CTSV.Rcheck Warnings: 0