Package: CTSV Version: 1.8.0 Command: rm -rf CTSV.buildbin-libdir && mkdir CTSV.buildbin-libdir && F:\biocbuild\bbs-3.20-bioc\R\bin\R.exe CMD INSTALL --build --library=CTSV.buildbin-libdir CTSV_1.8.0.tar.gz StartedAt: 2025-02-04 08:18:24 -0500 (Tue, 04 Feb 2025) EndedAt: 2025-02-04 08:18:52 -0500 (Tue, 04 Feb 2025) EllapsedTime: 27.9 seconds RetCode: 0 Status: OK PackageFile: CTSV_1.8.0.zip PackageFileSize: 325.7 KiB