Package: CTSV Version: 1.8.0 Command: /home/biocbuild/R/R/bin/R CMD INSTALL CTSV StartedAt: 2025-02-10 20:26:01 -0000 (Mon, 10 Feb 2025) EndedAt: 2025-02-10 20:26:32 -0000 (Mon, 10 Feb 2025) EllapsedTime: 31.5 seconds RetCode: 0 Status: OK