Package: CTdata Version: 1.6.0 Command: /Library/Frameworks/R.framework/Resources/bin/R CMD INSTALL CTdata StartedAt: 2025-02-03 15:41:14 -0500 (Mon, 03 Feb 2025) EndedAt: 2025-02-03 15:41:22 -0500 (Mon, 03 Feb 2025) EllapsedTime: 8.9 seconds RetCode: 0 Status: OK