Package: CTdata Version: 1.6.0 Command: /Library/Frameworks/R.framework/Resources/bin/R CMD check --install=check:CTdata.install-out.txt --library=/Library/Frameworks/R.framework/Resources/library --no-vignettes --timings CTdata_1.6.0.tar.gz StartedAt: 2025-02-04 02:01:58 -0500 (Tue, 04 Feb 2025) EndedAt: 2025-02-04 02:06:22 -0500 (Tue, 04 Feb 2025) EllapsedTime: 264.3 seconds RetCode: 0 Status: OK CheckDir: CTdata.Rcheck Warnings: 0