Package: CTdata Version: 1.6.0 Command: /home/biocbuild/bbs-3.20-bioc/R/bin/R CMD build --keep-empty-dirs --no-resave-data --md5 CTdata StartedAt: 2025-02-03 17:02:13 -0500 (Mon, 03 Feb 2025) EndedAt: 2025-02-03 17:08:31 -0500 (Mon, 03 Feb 2025) EllapsedTime: 378.4 seconds RetCode: 0 Status: OK PackageFile: CTdata_1.6.0.tar.gz PackageFileSize: 6.972 MiB