Package: CTdata Version: 1.6.0 Command: /home/biocbuild/bbs-3.20-bioc/R/bin/R CMD INSTALL CTdata StartedAt: 2025-02-10 15:25:53 -0500 (Mon, 10 Feb 2025) EndedAt: 2025-02-10 15:26:07 -0500 (Mon, 10 Feb 2025) EllapsedTime: 13.5 seconds RetCode: 0 Status: OK