Package: CTdata Version: 1.6.0 Command: F:\biocbuild\bbs-3.20-bioc\R\bin\R.exe CMD INSTALL CTdata StartedAt: 2025-02-03 16:00:35 -0500 (Mon, 03 Feb 2025) EndedAt: 2025-02-03 16:01:09 -0500 (Mon, 03 Feb 2025) EllapsedTime: 33.6 seconds RetCode: 0 Status: OK