Package: CTdata Version: 1.6.0 Command: /home/biocbuild/R/R/bin/R CMD build --keep-empty-dirs --no-resave-data CTdata StartedAt: 2025-02-03 22:55:27 -0000 (Mon, 03 Feb 2025) EndedAt: 2025-02-03 23:01:56 -0000 (Mon, 03 Feb 2025) EllapsedTime: 389.2 seconds RetCode: 0 Status: OK PackageFile: CTdata_1.6.0.tar.gz PackageFileSize: 7.066 MiB