Package: CTdata Version: 1.6.0 Command: /home/biocbuild/R/R/bin/R CMD INSTALL CTdata StartedAt: 2025-02-03 20:38:39 -0000 (Mon, 03 Feb 2025) EndedAt: 2025-02-03 20:39:01 -0000 (Mon, 03 Feb 2025) EllapsedTime: 21.2 seconds RetCode: 0 Status: OK