Package: CTexploreR Version: 1.2.0 Command: /Library/Frameworks/R.framework/Resources/bin/R CMD build --keep-empty-dirs --no-resave-data CTexploreR StartedAt: 2025-01-30 21:49:54 -0500 (Thu, 30 Jan 2025) EndedAt: 2025-01-30 22:08:43 -0500 (Thu, 30 Jan 2025) EllapsedTime: 1128.8 seconds RetCode: 0 Status: OK PackageFile: CTexploreR_1.2.0.tar.gz PackageFileSize: 7.549 MiB