Package: CTexploreR Version: 1.2.0 Command: rm -rf CTexploreR.buildbin-libdir && mkdir CTexploreR.buildbin-libdir && /Users/biocbuild/BBS/utils/build-universal.sh CTexploreR_1.2.0.tar.gz /Library/Frameworks/R.framework/Resources/bin/R CTexploreR.buildbin-libdir StartedAt: 2025-01-31 12:37:09 -0500 (Fri, 31 Jan 2025) EndedAt: 2025-01-31 12:38:35 -0500 (Fri, 31 Jan 2025) EllapsedTime: 86.6 seconds RetCode: 0 Status: OK PackageFile: CTexploreR_1.2.0.tgz PackageFileSize: 10.14 MiB