Package: CTexploreR Version: 1.2.0 Command: /Library/Frameworks/R.framework/Resources/bin/R CMD check --install=check:CTexploreR.install-out.txt --library=/Library/Frameworks/R.framework/Resources/library --no-vignettes --timings CTexploreR_1.2.0.tar.gz StartedAt: 2025-01-31 02:21:14 -0500 (Fri, 31 Jan 2025) EndedAt: 2025-01-31 03:01:15 -0500 (Fri, 31 Jan 2025) EllapsedTime: 2400.9 seconds RetCode: None Status: TIMEOUT CheckDir: CTexploreR.Rcheck Warnings: NA