Package: CTexploreR Version: 1.2.0 Command: /Library/Frameworks/R.framework/Resources/bin/R CMD INSTALL CTexploreR StartedAt: 2025-01-30 15:51:07 -0500 (Thu, 30 Jan 2025) EndedAt: 2025-01-30 15:52:34 -0500 (Thu, 30 Jan 2025) EllapsedTime: 87.8 seconds RetCode: 0 Status: OK