Package: CTexploreR Version: 1.2.0 Command: /home/biocbuild/bbs-3.20-bioc/R/bin/R CMD build --keep-empty-dirs --no-resave-data --md5 CTexploreR StartedAt: 2025-01-30 16:53:17 -0500 (Thu, 30 Jan 2025) EndedAt: 2025-01-30 17:05:47 -0500 (Thu, 30 Jan 2025) EllapsedTime: 749.8 seconds RetCode: 0 Status: OK PackageFile: CTexploreR_1.2.0.tar.gz PackageFileSize: 7.268 MiB