Package: CTexploreR Version: 1.2.0 Command: /home/biocbuild/bbs-3.20-bioc/R/bin/R CMD INSTALL CTexploreR StartedAt: 2025-01-30 15:28:21 -0500 (Thu, 30 Jan 2025) EndedAt: 2025-01-30 15:29:01 -0500 (Thu, 30 Jan 2025) EllapsedTime: 40.7 seconds RetCode: 0 Status: OK