Package: CTexploreR Version: 1.2.0 Command: /home/biocbuild/R/R/bin/R CMD build --keep-empty-dirs --no-resave-data CTexploreR StartedAt: 2025-01-30 22:56:30 -0000 (Thu, 30 Jan 2025) EndedAt: 2025-01-30 23:09:27 -0000 (Thu, 30 Jan 2025) EllapsedTime: 776.3 seconds RetCode: 0 Status: OK PackageFile: CTexploreR_1.2.0.tar.gz PackageFileSize: 4.459 MiB