Package: CaDrA Version: 1.4.0 Command: /Library/Frameworks/R.framework/Resources/bin/R CMD INSTALL CaDrA StartedAt: 2025-01-30 16:33:14 -0500 (Thu, 30 Jan 2025) EndedAt: 2025-01-30 16:33:44 -0500 (Thu, 30 Jan 2025) EllapsedTime: 30.0 seconds RetCode: 0 Status: OK