Package: CaDrA Version: 1.4.0 Command: /Library/Frameworks/R.framework/Resources/bin/R CMD check --install=check:CaDrA.install-out.txt --library=/Library/Frameworks/R.framework/Resources/library --no-vignettes --timings CaDrA_1.4.0.tar.gz StartedAt: 2024-11-08 21:59:59 -0500 (Fri, 08 Nov 2024) EndedAt: 2024-11-08 22:06:00 -0500 (Fri, 08 Nov 2024) EllapsedTime: 360.4 seconds RetCode: 0 Status: OK CheckDir: CaDrA.Rcheck Warnings: 0