Package: CaDrA Version: 1.4.0 Command: /Library/Frameworks/R.framework/Resources/bin/R CMD check --install=check:CaDrA.install-out.txt --library=/Library/Frameworks/R.framework/Resources/library --no-vignettes --timings CaDrA_1.4.0.tar.gz StartedAt: 2024-11-19 20:12:02 -0500 (Tue, 19 Nov 2024) EndedAt: 2024-11-19 20:21:27 -0500 (Tue, 19 Nov 2024) EllapsedTime: 565.3 seconds RetCode: 0 Status: OK CheckDir: CaDrA.Rcheck Warnings: 0