Package: CaDrA Version: 1.4.0 Command: rm -rf CaDrA.buildbin-libdir && mkdir CaDrA.buildbin-libdir && /Users/biocbuild/BBS/utils/build-universal.sh CaDrA_1.4.0.tar.gz /Library/Frameworks/R.framework/Resources/bin/R CaDrA.buildbin-libdir StartedAt: 2025-02-04 12:35:09 -0500 (Tue, 04 Feb 2025) EndedAt: 2025-02-04 12:36:12 -0500 (Tue, 04 Feb 2025) EllapsedTime: 62.4 seconds RetCode: 0 Status: OK PackageFile: CaDrA_1.4.0.tgz PackageFileSize: 2.47 MiB