Package: CaDrA Version: 1.4.0 Command: /Library/Frameworks/R.framework/Resources/bin/R CMD INSTALL CaDrA StartedAt: 2025-01-30 15:49:39 -0500 (Thu, 30 Jan 2025) EndedAt: 2025-01-30 15:50:35 -0500 (Thu, 30 Jan 2025) EllapsedTime: 56.3 seconds RetCode: 0 Status: OK