Package: CaDrA Version: 1.4.0 Command: rm -rf CaDrA.buildbin-libdir && mkdir CaDrA.buildbin-libdir && F:\biocbuild\bbs-3.20-bioc\R\bin\R.exe CMD INSTALL --build --library=CaDrA.buildbin-libdir CaDrA_1.4.0.tar.gz StartedAt: 2025-02-04 08:06:57 -0500 (Tue, 04 Feb 2025) EndedAt: 2025-02-04 08:07:34 -0500 (Tue, 04 Feb 2025) EllapsedTime: 37.5 seconds RetCode: 0 Status: OK PackageFile: CaDrA_1.4.0.zip PackageFileSize: 1.537 MiB