Package: CaDrA Version: 1.4.0 Command: chmod a+r CaDrA -R && F:\biocbuild\bbs-3.20-bioc\R\bin\R.exe CMD build --keep-empty-dirs --no-resave-data CaDrA StartedAt: 2025-02-03 17:54:44 -0500 (Mon, 03 Feb 2025) EndedAt: 2025-02-03 17:57:52 -0500 (Mon, 03 Feb 2025) EllapsedTime: 188.6 seconds RetCode: 0 Status: OK PackageFile: CaDrA_1.4.0.tar.gz PackageFileSize: 1.542 MiB