Package: CaDrA Version: 1.4.0 Command: F:\biocbuild\bbs-3.20-bioc\R\bin\R.exe CMD check --no-multiarch --install=check:CaDrA.install-out.txt --library=F:\biocbuild\bbs-3.20-bioc\R\library --no-vignettes --timings CaDrA_1.4.0.tar.gz StartedAt: 2025-02-03 23:54:11 -0500 (Mon, 03 Feb 2025) EndedAt: 2025-02-04 00:03:12 -0500 (Tue, 04 Feb 2025) EllapsedTime: 541.2 seconds RetCode: 0 Status: OK CheckDir: CaDrA.Rcheck Warnings: 0