Package: CaDrA Version: 1.4.0 Command: /home/biocbuild/R/R/bin/R CMD build --keep-empty-dirs --no-resave-data CaDrA StartedAt: 2025-01-30 22:17:53 -0000 (Thu, 30 Jan 2025) EndedAt: 2025-01-30 22:20:50 -0000 (Thu, 30 Jan 2025) EllapsedTime: 177.1 seconds RetCode: 0 Status: OK PackageFile: CaDrA_1.4.0.tar.gz PackageFileSize: 1.746 MiB