Package: CaDrA Version: 1.4.0 Command: /home/biocbuild/R/R/bin/R CMD check --install=check:CaDrA.install-out.txt --library=/home/biocbuild/R/R/site-library --no-vignettes --timings CaDrA_1.4.0.tar.gz StartedAt: 2025-02-04 05:16:57 -0000 (Tue, 04 Feb 2025) EndedAt: 2025-02-04 05:25:15 -0000 (Tue, 04 Feb 2025) EllapsedTime: 497.4 seconds RetCode: 0 Status: WARNINGS CheckDir: CaDrA.Rcheck Warnings: 1