Package: CaMutQC Version: 1.2.0 Command: rm -rf CaMutQC.buildbin-libdir && mkdir CaMutQC.buildbin-libdir && /Users/biocbuild/BBS/utils/build-universal.sh CaMutQC_1.2.0.tar.gz /Library/Frameworks/R.framework/Resources/bin/R CaMutQC.buildbin-libdir StartedAt: 2024-11-09 16:40:35 -0500 (Sat, 09 Nov 2024) EndedAt: 2024-11-09 16:40:48 -0500 (Sat, 09 Nov 2024) EllapsedTime: 12.2 seconds RetCode: 0 Status: OK PackageFile: CaMutQC_1.2.0.tgz PackageFileSize: 4.118 MiB