Package: CaMutQC Version: 1.2.0 Command: /home/biocbuild/bbs-3.20-bioc/R/bin/R CMD build --keep-empty-dirs --no-resave-data --md5 CaMutQC StartedAt: 2025-02-03 16:41:49 -0500 (Mon, 03 Feb 2025) EndedAt: 2025-02-03 16:42:53 -0500 (Mon, 03 Feb 2025) EllapsedTime: 64.1 seconds RetCode: 0 Status: OK PackageFile: CaMutQC_1.2.0.tar.gz PackageFileSize: 4.846 MiB